BEGIN:VCALENDAR
VERSION:2.0
PRODID:-//Grote Kerk Wageningen - ECPv6.15.18//NONSGML v1.0//EN
CALSCALE:GREGORIAN
METHOD:PUBLISH
X-WR-CALNAME:Grote Kerk Wageningen
X-ORIGINAL-URL:https://www.grotekerkwageningen.nl
X-WR-CALDESC:Evenementen voor Grote Kerk Wageningen
REFRESH-INTERVAL;VALUE=DURATION:PT1H
X-Robots-Tag:noindex
X-PUBLISHED-TTL:PT1H
BEGIN:VTIMEZONE
TZID:Europe/Amsterdam
BEGIN:DAYLIGHT
TZOFFSETFROM:+0100
TZOFFSETTO:+0200
TZNAME:CEST
DTSTART:20210328T010000
END:DAYLIGHT
BEGIN:STANDARD
TZOFFSETFROM:+0200
TZOFFSETTO:+0100
TZNAME:CET
DTSTART:20211031T010000
END:STANDARD
BEGIN:DAYLIGHT
TZOFFSETFROM:+0100
TZOFFSETTO:+0200
TZNAME:CEST
DTSTART:20220327T010000
END:DAYLIGHT
BEGIN:STANDARD
TZOFFSETFROM:+0200
TZOFFSETTO:+0100
TZNAME:CET
DTSTART:20221030T010000
END:STANDARD
BEGIN:DAYLIGHT
TZOFFSETFROM:+0100
TZOFFSETTO:+0200
TZNAME:CEST
DTSTART:20230326T010000
END:DAYLIGHT
BEGIN:STANDARD
TZOFFSETFROM:+0200
TZOFFSETTO:+0100
TZNAME:CET
DTSTART:20231029T010000
END:STANDARD
END:VTIMEZONE
BEGIN:VEVENT
DTSTART;TZID=Europe/Amsterdam:20221119T201500
DTEND;TZID=Europe/Amsterdam:20221119T223000
DTSTAMP:20260421T015348
CREATED:20220126T112618Z
LAST-MODIFIED:20221013T100844Z
UID:4582-1668888900-1668897000@www.grotekerkwageningen.nl
SUMMARY:Musica Vocale met The Full Heart – composities uit de grond van het hart
DESCRIPTION:Op 19 november 2022 gaat Musica Vocale Wageningen een bijzonder en afwisselend concert geven. Een eigenwijs programma met muziek van componisten die hun hart volgen. Dat is waarschijnlijk de beste beschrijving van het programma ‘The Full Heart’. \nVoor meer informatie: website Musica Vocale  \nOp het programma staan:\n    Agnus Dei van Krzysztof Eugeniusz Penderecki\n    Johannes van Damaskus van Sergej Tanejev\n    Diptychon van Valentin Silvestrov\n    Un soir de neige van Francis Poulenc\n    Psalmensymphonie van Igor Stravinsky (in de bewerking voor 4-handig piano)\n    The Full Heart van Peter Warlock \nUitvoerenden:\nMusica Vocale Wageningen onder leiding van Rob Vermeulen\, met medewerking van Martje van Damme & Inés Costales\, piano \nDatum: zaterdag 19 november 2022\nAanvang: 20.15 uur\nKerk open: 19.45 uur \n Kaartverkoop Als ook aan de zaal vanaf 19:30 uur.
URL:https://www.grotekerkwageningen.nl/agenda/musica-vocale-concert-november-2/
END:VEVENT
BEGIN:VEVENT
DTSTART;TZID=Europe/Amsterdam:20221029T200000
DTEND;TZID=Europe/Amsterdam:20221029T223000
DTSTAMP:20260421T015348
CREATED:20220322T101742Z
LAST-MODIFIED:20251029T144316Z
UID:4672-1667073600-1667082600@www.grotekerkwageningen.nl
SUMMARY:Cantatekoor Wageningen | 'Petite messe solennelle'
DESCRIPTION:Najaarsconcert op zaterdag 29 oktober 2022 \nHet Cantatekoor zingt Petite Messe Solennelle van Rossini en Die Seligkeiten van Liszt onder leiding van Britt de Bakker. \nHet koor wordt begeleid door Mark Toxopeus op piano en Elly Meijer op harmonium. \nDeirdre Angenent (sopraan)\, Carina Vinke (alt)\, Leon van Liere (tenor) en Joep van Geffen (bariton) zullen als solisten optreden bij deze werken. \nDatum: zaterdag 29 oktober 2022\nAanvang: 20.00 uur\nKerk open: 19.30 uur \n Kaartverkoop Als ook aan de zaal vanaf 19:30 uur en bij de leden van CKW.
URL:https://www.grotekerkwageningen.nl/agenda/cantatekoor-wageningen-concert-november-concert/
CATEGORIES:Eendaags
ATTACH;FMTTYPE=image/jpeg:https://www.grotekerkwageningen.nl/wp-content/uploads/2022/09/cantatekoor-affiche-concert_najaar_2022_A4_def-scaled.jpg
END:VEVENT
BEGIN:VEVENT
DTSTART;TZID=Europe/Amsterdam:20221021T190000
DTEND;TZID=Europe/Amsterdam:20221021T230000
DTSTAMP:20260421T015348
CREATED:20220915T080940Z
LAST-MODIFIED:20220915T081631Z
UID:5332-1666378800-1666393200@www.grotekerkwageningen.nl
SUMMARY:Wagenings bierfestival
DESCRIPTION:Vrijdag 21 oktober vindt voor de eerste keer het Wagenings bierfestival plaats! \nDit wordt georganiseerd door Café Onder de Linden\, een van de oudste café’s van Nederland\, in samenwerking met Woudenberg Dranken Wageningen die sinds 1926 iets met bieren heeft in Wageningen. \nDeze avond zullen er 8 lokale en nationale brouwerijen aanwezig zijn\, die allemaal minstens twee bieren te proeven aanbieden! \nOok zijn er lekkere hapjes aanwezig. Je proefglas mag je mee naar huis nemen\, en mocht je aan 4 bier niet genoeg hebben. Dan kun je natuurlijk consumpties bijkopen. \nDatum: vrijdag 21 oktober 2022\nAanvang: 19.00 uur\nKerk open: 23.00 uur\nToegangskaart\, inclusief 4 consumpties zijn voor € 20\,= te koop bij Woudenberg Wijnhandel en Café Onder de Linden.
URL:https://www.grotekerkwageningen.nl/agenda/wagenings-bierfestival/
ATTACH;FMTTYPE=image/jpeg:https://www.grotekerkwageningen.nl/wp-content/uploads/2022/09/Woudenberg-2022-09-14-16-53-55.jpg
END:VEVENT
BEGIN:VEVENT
DTSTART;VALUE=DATE:20221013
DTEND;VALUE=DATE:20221016
DTSTAMP:20260421T015348
CREATED:20220615T144204Z
LAST-MODIFIED:20220915T100838Z
UID:5001-1665619200-1665878399@www.grotekerkwageningen.nl
SUMMARY:Rhinegold Festival 2022 | Klassiek in Wageningen
DESCRIPTION:Je denkt misschien wel: Klassieke muziek? Dat is toch saai\, ouderwets en niet iets voor mij? Niks is minder waar! Omdat te horen en te laten zien organiseert de Wageningse klassieke pianist Michel Xie op 13\, 14 en 15 oktober 2022 een nieuw en verfrissend kamermuziekfestival met de naam: Rhinegold Festival. \nMet dit festival willen Michel Xie en zijn Stichting Klassiek in Wageningen laten zien dat klassieke muziek leeft en door jonge mensen vol passie en vuur gespeeld kan worden. Laat je in de Grote Kerk meevoeren door de muziek die vaak nauw aan het hart liggen van de spelende musici. Zij leggen uit waarom zij zo van deze muziek houden en leggen uit waar men als publiek naar kan luisteren en welke beelden of emoties er wellicht opgeroepen kunnen worden bij de gespeelde stukken. \n\n\nWie zijn de musici?\nOm een beeld van de jonge topmusici te geven\, zijn hier wat bijzondere weetjes over deze artiesten! Deze musici spelen in orkesten zoals het Koninklijk Concertgebouworkest\, het Radio Filharmonisch Orkest en het Metropole Orkest. Daarnaast zijn ze ook winnaars en laureaten van het Oskar Back Vioolconcours\, Dutch Classical Talent\, Prinses Christina Concours en Classic Young Masters. \nHier de line-up met een link naar hun persoonlijke website; Animato Kwartet – strijkkwartet; Annemiek de Bruin – klarinet; Beth&Flo – pianoduo; Coraline Groen – viool; Emma Roijackers – viool; Gerbrich Meijer – klarinet; Iris van Nuland – viool; Joel Siepmann – cello; Joost Willemze – harp; Mees Vos – hoorn; Michel Xie – piano; Raoul Steffani – bariton; Tim Ouwejan – trombone. Onder in het programma zie je wanneer zij zullen optreden! \nProgramma 2022\n•\n10 en 11 oktober Classic Express in Wageningen (besloten) Meer info en/of tickets\n•\n13 oktober 20:00 uur ‘Classical Lounge’ Grote Kerk Wageningen met Emma Roijackers (viool)\, Joel Siepmann (cello)\, Joost Willemze (harp)\, Tim Ouwejan (trombone) en Michel Xie (piano) Meer info en/of tickets\n•\n14 oktober 12:30 uur gratis Lunchconcert Grote Kerk Wageningen met Joost Willemze (harp) Meer info en/of tickets\n•\n14 oktober 20:00 uur ‘Love Triangle’ Grote Kerk Wageningen met Annemiek de Bruin (klarinet)\, Emma Roijackers (viool)\, Raoul Steffani (bariton) en Michel Xie (piano) Meer info en/of tickets\n•\n15 oktober 11:00 Familieconcert Grote Kerk Wageningen met Beth&Flo (pianoduo) bestaande uit Elsbet Remijn en Claudette Verhulst Meer info en/of tickets\n•\n15 oktober 14:00/15:00/16:00 uur gratis Wandelconcert BBLTHK\, Grote Kerk en Hotel de Wereld met Mees Vos (hoorn) en Michel Xie (piano)\, Animato Kwartet (strijkkwartet) in twee duo’s Meer info en/of tickets\n•\n15 oktober 20:00 ‘Happy Birthday Franck!’ Grote Kerk Wageningen met Animato Kwartet (strijkkwartet)\, Coraline Groen (viool) en Michel Xie (piano) Meer info en/of tickets\n•
URL:https://www.grotekerkwageningen.nl/agenda/rhinegold-festival/
ATTACH;FMTTYPE=image/png:https://www.grotekerkwageningen.nl/wp-content/uploads/2022/06/Rhinegold-Geel-op-blauw-noot.png
END:VEVENT
BEGIN:VEVENT
DTSTART;TZID=Europe/Amsterdam:20221007T180000
DTEND;TZID=Europe/Amsterdam:20221007T233000
DTSTAMP:20260421T015348
CREATED:20211007T204308Z
LAST-MODIFIED:20251029T144316Z
UID:3803-1665165600-1665185400@www.grotekerkwageningen.nl
SUMMARY:'Charity Event'
DESCRIPTION:Een verrassende avond met eten\, drinken en entertainment vindt plaats op vrijdag 7 oktober 2022 vanaf 18.00 uur in de Grote Kerk die wordt omgetoverd in een bruisende feestlocatie. De avond wordt georganiseerd door de Lions Club Wageningen en de Soroptimistenclub Wageningen. \nWe starten de avond met een borrel die overgaat in een ‘walking dinner‘ verzorgd door Restaurant Drinks and Bites samen met Bistro Balthazar. Hierna gaat de avond over in een feest met muziek en dans!  \nDatum: vrijdag 7 oktober 2022\nDresscode: Feestelijk\nAanvang: 18.00 uur\nEindtijd: 23.30 uur\nPrijs: €50 inclusief eten en entertainment\, overige consumpties per pin.    Tickets\n\n\n\nDe crowdfunding is ten bate van:\n• Trees 4 live: wereldwijd vierde de Soroptimsten in 2021 hun 100 jarig bestaan. Feest vieren doen ze niet alleen maar door met alle clubs wereldwijd in Mali bomen te planten om vrouwen te empoweren en economisch meer onafhankelijk te maken. Onze droom is dat we over 3 jaar €300.000\,- hebben om bomen in Mali te planten\, dat er in Nederland honderden bomen staan en dat 1000 Malinese vrouwen perspectief hebben op een betere toekomst. Zo planten we aan een duurzame toekomst! Help je mee dit te realiseren?\n• Grote Kerk Wageningen: na een uitgebreide verbouwing is sinds de zomer van 2020 de Grote Kerk in gebruik als bijzondere locatie voor concerten en evenementen voor de Wageningse gemeenschap. De kerkgemeente heeft eerder de Grote Kerk overgedragen waarbij de Stichting Grote Kerk Wageningen de exploitatie is gaan doen. Deze exploitatie vindt volledig plaats zonder subsidie. Bij de herinrichting zijn veel nieuwe zaken aangeschaft\, en zijn de kerkbanken vervangen voor 245 nieuwe en comfortabele stoelen. Het laatste stukje moet nog worden gefinancierd en door een kaart te kopen werk je daar aan mee.
URL:https://www.grotekerkwageningen.nl/agenda/charity-event-lions-soroptimisten-2022/
CATEGORIES:Eendaags
ATTACH;FMTTYPE=image/jpeg:https://www.grotekerkwageningen.nl/wp-content/uploads/2022/08/Charity-event-2022-scaled.jpg
END:VEVENT
END:VCALENDAR